BEGIN:VCALENDAR
VERSION:2.0
PRODID:-//ChamberMaster//Event Calendar 2.0//EN
METHOD:PUBLISH
X-PUBLISHED-TTL:P3D
REFRESH-INTERVAL:P3D
CALSCALE:GREGORIAN
BEGIN:VEVENT
DTSTART:20221013T220000Z
DTEND:20221014T003000Z
X-MICROSOFT-CDO-ALLDAYEVENT:FALSE
SUMMARY:2022 Piscataquis Annual Dinner & Business of the Year Celebration
DESCRIPTION:Join us for a relaxed\, enjoyable night of networking\, dinner\, and cash bar at the annual Piscataquis Business Meeting & Business of the Year Celebration.\n\nRSVP is required as the event is being catered.
X-ALT-DESC;FMTTYPE=text/html:Join us for a relaxed\, enjoyable night of networking\, dinner\, and cash bar at the annual Piscataquis Business Meeting &amp\; Business of the Year Celebration.<br />\nRSVP is required as the event is being catered.
LOCATION:Piscataquis County Ice Arena W Main St. Dover-Foxcroft ME
UID:e.3605.2439
SEQUENCE:3
DTSTAMP:20260422T001209Z
URL:http://piscataquis-gzcms.preview.gochambermaster.com/events/details/2022-piscataquis-annual-dinner-business-of-the-year-celebration-2439
END:VEVENT

END:VCALENDAR
