BEGIN:VCALENDAR
VERSION:2.0
PRODID:-//ChamberMaster//Event Calendar 2.0//EN
METHOD:PUBLISH
X-PUBLISHED-TTL:P3D
REFRESH-INTERVAL:P3D
CALSCALE:GREGORIAN
BEGIN:VEVENT
DTSTART:20230930T120000Z
DTEND:20230930T180000Z
X-MICROSOFT-CDO-ALLDAYEVENT:FALSE
SUMMARY:4th Annual Whoopie Pie Sale and Yard Sale
DESCRIPTION:4th Annual Whoopie Pie Sale and Yard Sale in honor of Jimmy Mike Mauzy's birthday and this year he is turning 80! More than a dozen Whoopie Pie varieties will be for sale by donation (recommended $4 minimum) at the Sebec Reading Room\; 665 Sebec Village Road.\n\n100% of the proceeds will be donated to Charity\, and the largest donor (buyer) will be gifted 3 dozen Whoopie Pies in any variety they would like. It's not a matter of how many Whoopie Pies will you purchase\, it's how much will you pay for the Whoopie Pies\, which will help support the Dyer Hope House (food pantry) in Milo.
X-ALT-DESC;FMTTYPE=text/html:<p>4th Annual Whoopie Pie Sale and Yard Sale in honor of Jimmy Mike Mauzy&#39\;s birthday and this year he is turning 80! More than a dozen Whoopie Pie varieties will be for sale by donation (recommended $4 minimum) at the Sebec Reading Room\; 665 Sebec Village Road.</p>\n\n<p>100% of the proceeds will be donated to Charity\, and the largest donor (buyer) will be gifted 3 dozen Whoopie Pies in any variety they would like. It&#39\;s not a matter of how many Whoopie Pies will you purchase\, it&#39\;s how much will you pay for the Whoopie Pies\, which will help support the Dyer Hope House (food pantry) in Milo.</p>\n
LOCATION:Sebec Reading Room 665 Sebec Village Road Sebec\, Maine 04481
UID:e.3605.3048
SEQUENCE:3
DTSTAMP:20260420T094641Z
URL:http://piscataquis-gzcms.preview.gochambermaster.com/events/details/4th-annual-whoopie-pie-sale-and-yard-sale-3048
END:VEVENT

END:VCALENDAR
