BEGIN:VCALENDAR
VERSION:2.0
PRODID:-//ChamberMaster//Event Calendar 2.0//EN
METHOD:PUBLISH
X-PUBLISHED-TTL:P3D
REFRESH-INTERVAL:P3D
CALSCALE:GREGORIAN
BEGIN:VEVENT
DTSTART:20220914T160000Z
DTEND:20220914T170000Z
X-MICROSOFT-CDO-ALLDAYEVENT:FALSE
SUMMARY:An Introduction to Facebook for Small Business
DESCRIPTION:What does a successful Facebook page for a small business look like? Content Marketing Strategist\, Sara Munro\, will provide guidance for utilizing Facebook as a marketing tool for your small business. Through this workshop\, you'll learn: Tips for what every Business Page should have Insight into updates expected for the platform Best practices for marketing your small business on Facebook Come with questions about using Facebook for your small business! Register Today! FREE https://wbc.ceimaine.org/workshop.aspx?ekey=95420043 Hosted by: Coastal Enterprises\, Inc. Women's Business Center
X-ALT-DESC;FMTTYPE=text/html:What does a successful Facebook page for a small business look like? Content Marketing Strategist\, Sara Munro\, will provide guidance for utilizing Facebook as a marketing tool for your small business. Through this workshop\, you&#39\;ll learn: Tips for what every Business Page should have Insight into updates expected for the platform Best practices for marketing your small business on Facebook Come with questions about using Facebook for your small business! Register Today! FREE https://wbc.ceimaine.org/workshop.aspx?ekey=95420043 Hosted by: Coastal Enterprises\, Inc. Women&#39\;s Business Center
LOCATION:Online Via Zoom
UID:e.3605.2437
SEQUENCE:3
DTSTAMP:20260422T020317Z
URL:http://piscataquis-gzcms.preview.gochambermaster.com/events/details/an-introduction-to-facebook-for-small-business-2437
END:VEVENT

END:VCALENDAR
