BEGIN:VCALENDAR
VERSION:2.0
PRODID:-//ChamberMaster//Event Calendar 2.0//EN
METHOD:PUBLISH
X-PUBLISHED-TTL:P3D
REFRESH-INTERVAL:P3D
CALSCALE:GREGORIAN
BEGIN:VEVENT
DTSTART:20220831T190000Z
DTEND:20220831T210000Z
X-MICROSOFT-CDO-ALLDAYEVENT:FALSE
SUMMARY:Back In Motion Physical Therapy Grand Opening and Ribbon Cutting!
DESCRIPTION:Join Back In Motion Physical Therapy to celebrate the Grand Opening of our Dover-Foxcroft location! Meet our staff\, tour the facility\, and enjoy some light refreshments! \n\n \n\n \n\nPLEASE RSVP HERE
X-ALT-DESC;FMTTYPE=text/html:<p>Join Back In Motion Physical Therapy to celebrate the Grand Opening of our Dover-Foxcroft location! Meet our staff\, tour the facility\, and enjoy some light refreshments!&nbsp\;</p>\n\n<p>&nbsp\;</p>\n\n<p>&nbsp\;</p>\n\n<p><a href="https://conta.cc/3w0fES2"><strong><span style="font-size:28px\;"><span style="font-family:tahoma\;">PLEASE RSVP HERE</span></span></strong></a></p>\n
LOCATION:Back In Motion Physical Therapy 1008 W Main Street Dover-Foxcroft\, ME 04426
UID:e.3605.2424
SEQUENCE:3
DTSTAMP:20260422T105200Z
URL:http://piscataquis-gzcms.preview.gochambermaster.com/events/details/back-in-motion-physical-therapy-grand-opening-and-ribbon-cutting-2424
END:VEVENT

END:VCALENDAR
