BEGIN:VCALENDAR
VERSION:2.0
PRODID:-//ChamberMaster//Event Calendar 2.0//EN
METHOD:PUBLISH
X-PUBLISHED-TTL:P3D
REFRESH-INTERVAL:P3D
CALSCALE:GREGORIAN
BEGIN:VEVENT
DTSTART:20210603T220000Z
DTEND:20210603T230000Z
X-MICROSOFT-CDO-ALLDAYEVENT:FALSE
SUMMARY:Blusters\, Bunglers\, and Boneheads: the Revolutionary War on Maine's Waters with Jim Nelson
DESCRIPTION:Thursday\, June 3 at 6 pm under the TFL tent Jim Nelson\, award-winning author of maritime fiction and nonfiction and a Lewiston-native\, presents "Blusters\, Bunglers & Boneheads" a talk\n\nabout the naval battles in Maine during the Revolutionary War and how each ended in disaster. Jim\, a UCLA film & TV grad\, whose enthusiasm for Hollywood waned while his passion for the nautical world deepened spent six years exploring the high seas. He worked on traditional sailing ships like the Golden Hinde where he met Lisa\, his shipmate turned soulmate. Jim has appeared on the History and Discovery channels and written over 20 books that run the gamut from Vikings to piracy in Colonial America\, naval action in the Revolutionary War\, and the Civil\n\nWar.
X-ALT-DESC;FMTTYPE=text/html:<span style="color:rgb(5\, 5\, 5)\; font-family:segoe ui historic\,segoe ui\,helvetica\,arial\,sans-serif\; font-size:15px">Thursday\, June 3 at 6 pm under the TFL tent Jim Nelson\, award-winning author of maritime fiction and nonfiction and a Lewiston-native\, presents &ldquo\;Blusters\, Bunglers &amp\; Boneheads&rdquo\; a talk</span><br />\n<span style="color:rgb(5\, 5\, 5)\; font-family:segoe ui historic\,segoe ui\,helvetica\,arial\,sans-serif\; font-size:15px">about the naval battles in Maine during the Revolutionary War and how each ended in disaster. Jim\, a UCLA film &amp\; TV grad\, whose enthusiasm for Hollywood waned while his passion for the nautical world deepened spent six years exploring the high seas. He worked on traditional sailing ships like the Golden Hinde where he met Lisa\, his shipmate turned soulmate. Jim has appeared on the History and Discovery channels and written over 20 books that run the gamut from Vikings to piracy in Colonial America\, naval action in the Revolutionary War\, and the Civil</span><br />\n<span style="color:rgb(5\, 5\, 5)\; font-family:segoe ui historic\,segoe ui\,helvetica\,arial\,sans-serif\; font-size:15px">War.</span>
LOCATION:
UID:e.3605.1263
SEQUENCE:3
DTSTAMP:20260425T160936Z
URL:http://piscataquis-gzcms.preview.gochambermaster.com/events/details/blusters-bunglers-and-boneheads-the-revolutionary-war-on-maine-s-waters-with-jim-nelson-1263
END:VEVENT

END:VCALENDAR
