BEGIN:VCALENDAR
VERSION:2.0
PRODID:-//ChamberMaster//Event Calendar 2.0//EN
METHOD:PUBLISH
X-PUBLISHED-TTL:P3D
REFRESH-INTERVAL:P3D
CALSCALE:GREGORIAN
BEGIN:VEVENT
DTSTART:20211204T150000Z
DTEND:20211204T210000Z
X-MICROSOFT-CDO-ALLDAYEVENT:FALSE
SUMMARY:Christmas Extravanganza
DESCRIPTION:Open One Day Only at Sebec Corner Grange Shop. Specials available as well as gift wrapping. Come get the fun stuff that you can't find anywhere else.
X-ALT-DESC;FMTTYPE=text/html:Open One Day Only at Sebec Corner Grange Shop. Specials available as well as gift wrapping. Come get the fun stuff that you can&#39\;t find anywhere else.
LOCATION:Sebec Corner Grange Shop\; 676 Milo Road\, Sebec
UID:e.3605.2155
SEQUENCE:3
DTSTAMP:20260425T014246Z
URL:http://piscataquis-gzcms.preview.gochambermaster.com/events/details/christmas-extravanganza-2155
END:VEVENT

END:VCALENDAR
