BEGIN:VCALENDAR
VERSION:2.0
PRODID:-//ChamberMaster//Event Calendar 2.0//EN
METHOD:PUBLISH
X-PUBLISHED-TTL:P3D
REFRESH-INTERVAL:P3D
CALSCALE:GREGORIAN
BEGIN:VEVENT
DTSTART:20240311T193000Z
DTEND:20240311T230000Z
X-MICROSOFT-CDO-ALLDAYEVENT:FALSE
SUMMARY:Clay class at Monson Pottery
DESCRIPTION:There are 2 places left for the class out of 10 spots.\n\n\n\nClass description :  Learn to create clay gargoyles and imaginative wall masks in clay. \n\n\n\nCeramic sculptor Randy Fein will guide you on your creative journey in clay .She will demonstrate how to build hollow forms from slabs and other basic pottery making techniques including pinching and free form modeling. Participants will develop imaginative human or animal- like themed faces and heads. Your unique art work will be designed to be hung on an interior or exterior wall.   \n\n\n\nBring your imagination to discover whimsy and individual artistic interpretation in clay sculpture.  Students may select to bring images or drawings to inspire their design.  All levels of experience are welcome to attend.\n\n\n\nArtist background:  Randy Fein is an accomplished ceramic sculptor and arts educator who has lead workshops and created clay sculpture installations during her professional career spanning over thirty five years.She has taught the art of ceramics at Babson College\, in Wellesley\, Massachusetts\; Castleton State college in Castleton\; Vermont\; Unity College in Unity\, Maine\; and at Haystack School of Craft in Deer Isle\, Maine. Her ceramic relief installations are in the collections of numerous institutions including: Eastern Maine Medical Center in Bangor\, Maine\;  Maine Medical Center in  Portland \, ME.\,  University of Southern Maine in Portland\, Maine\; Babson College in Wellesley\, MA.\, and Castleton State College in Castleton\, Vermont.
X-ALT-DESC;FMTTYPE=text/html:<div>\n<p><strong>There are 2 places left for the class out of 10 spots.<br />\n<br />\nClass description</strong> :&nbsp\; Learn to create clay gargoyles and imaginative wall masks in clay.&nbsp\;</p>\n</div>\n\n<div>\n<p><span style="color:rgb(69\, 69\, 69)">Ceramic sculptor Randy Fein </span>will guide you on your creative journey in clay .She will&nbsp\;<span style="background-color:rgb(255\, 255\, 255)\; color:rgb(0\, 0\, 0)">demonstrate how to build hollow forms from slabs and other basic pottery making techniques including pinching and free form modeling.&nbsp\;</span><span style="color:rgb(0\, 0\, 0)">Participants will&nbsp\;</span><span style="color:rgba(0\, 0\, 0\, 0.8)">develop imaginative human or animal- like themed faces and heads.&nbsp\;</span>Your unique art&nbsp\;<span style="color:rgba(0\, 0\, 0\, 0.8)">work will be designed to be hung on an&nbsp\;interior or exterior wall.&nbsp\;</span><span style="background-color:rgb(255\, 255\, 255)\; color:rgb(0\, 0\, 0)">&nbsp\;&nbsp\;</span></p>\n</div>\n\n<div>\n<p><span style="background-color:rgb(255\, 255\, 255)\; color:rgb(0\, 0\, 0)">Bring your imagination to discover w</span><span style="color:rgb(0\, 0\, 0)">himsy and individual artistic interpretation in clay sculpture. &nbsp\;Students may select to bring images or drawings to inspire their design.</span>&nbsp\;&nbsp\;All levels of experience are welcome to attend.</p>\n</div>\n\n<div>\n<p><span style="color:rgb(0\, 0\, 0)"><strong>Artist background</strong>:&nbsp\; </span>Randy Fein is an accomplished ceramic sculptor and arts educator who has lead workshops and created clay sculpture installations&nbsp\;during her professional career spanning over thirty five years.She has taught the art of ceramics at Babson College\, in Wellesley\, Massachusetts\; Castleton State college in Castleton\; Vermont\; Unity College in Unity\, Maine\; and at Haystack School of Craft in Deer Isle\, Maine. Her ceramic relief installations are in the collections of numerous institutions including: Eastern Maine Medical Center in Bangor\, Maine\; &nbsp\;Maine Medical Center in &nbsp\;Portland \, ME.\,&nbsp\;&nbsp\;University of Southern Maine in Portland\, Maine\; Babson College in&nbsp\;Wellesley\, MA.\, and Castleton State College in Castleton\, Vermont.</p>\n</div>\n\n<p>&nbsp\;</p>\n
LOCATION:Monson Pottery\, 16 Greenville Road\, Monson\, Maine
UID:e.3605.3616
SEQUENCE:3
DTSTAMP:20260419T183433Z
URL:http://piscataquis-gzcms.preview.gochambermaster.com/events/details/clay-class-at-monson-pottery-3616
END:VEVENT

END:VCALENDAR
