BEGIN:VCALENDAR
VERSION:2.0
PRODID:-//ChamberMaster//Event Calendar 2.0//EN
METHOD:PUBLISH
X-PUBLISHED-TTL:P3D
REFRESH-INTERVAL:P3D
CALSCALE:GREGORIAN
BEGIN:VEVENT
DTSTART:20230418T213000Z
DTEND:20230418T230000Z
X-MICROSOFT-CDO-ALLDAYEVENT:FALSE
SUMMARY:Coffee Talk - Electrical Grid & Steve Robinson
DESCRIPTION:Have you ever wondered how Kilowatts get generated and delivered to your home? \n\nSteven Robinson will be the guest speaker of this month's "Coffee Talk" held on April 18th from 5:30-7:00 PM at Central Hall Commons. \n\nMr. Robinson will provide an overview of Maine's power grid. Mr. Robinson has over 28 years of experience in the electric utility sector. He will share helpful information on electrical home safety\, the benefits of energy efficiency\, and specifically how customers can save money on their energy bills.\n\nThe event will be hosted by Central Hall Commons as part of an ongoing series of monthly\, early evening discussions on a variety of topics we hope will enlighten and enrich members of the community.\n\nThere will be time for questions and answers following the presentation.\n\n\n\nCentral Hall Commons "Coffee Talk" is free to attend and open to the public. \n\nLight refreshments will be served.
X-ALT-DESC;FMTTYPE=text/html:<h1>Have you ever wondered how Kilowatts get generated and delivered to your home?&nbsp\;</h1>\n\n<p>Steven Robinson will be the guest speaker of this month&rsquo\;s &ldquo\;Coffee&nbsp\;Talk&rdquo\; held on&nbsp\;<strong>April 18th from 5:30-7:00 PM at Central Hall Commons</strong>.&nbsp\;</p>\n\n<p>Mr. Robinson will provide an overview of Maine&rsquo\;s power grid.&nbsp\;Mr. Robinson has over 28 years of experience in the electric utility sector. He will share helpful information on electrical home safety\, the benefits of energy efficiency\, and specifically how customers can save money on their energy bills.</p>\n\n<p>The event will be hosted by Central Hall Commons as part of an ongoing series of monthly\, early evening discussions on a variety of topics we hope will enlighten and enrich members of the community.</p>\n\n<p>There will be time for questions and answers following the presentation.</p>\n\n<p><br />\n<strong>Central Hall Commons &ldquo\;Coffee Talk&rdquo\; is free to attend and open to the public.&nbsp\;</strong></p>\n\n<p><strong>Light refreshments will be served.</strong></p>\n
LOCATION:
UID:e.3605.2541
SEQUENCE:3
DTSTAMP:20260421T021359Z
URL:http://piscataquis-gzcms.preview.gochambermaster.com/events/details/coffee-talk-electrical-grid-steve-robinson-2541
END:VEVENT

END:VCALENDAR
