BEGIN:VCALENDAR
VERSION:2.0
PRODID:-//ChamberMaster//Event Calendar 2.0//EN
METHOD:PUBLISH
X-PUBLISHED-TTL:P3D
REFRESH-INTERVAL:P3D
CALSCALE:GREGORIAN
BEGIN:VEVENT
DTSTART:20230729T213000Z
DTEND:20230729T230000Z
X-MICROSOFT-CDO-ALLDAYEVENT:FALSE
SUMMARY:Community Summer Supper
DESCRIPTION:Turkey\, ham\, a variety of salads\, rolls\, and various homemade pies. Sseating allows up to 40 people. Reservations by calling Gail D'Agostino- 343-2453
X-ALT-DESC;FMTTYPE=text/html:Turkey\, ham\, a variety of salads\, rolls\, and various homemade pies. Sseating allows up to 40 people. Reservations by calling Gail D&#39\;Agostino- 343-2453
LOCATION:Unitarian Universalist Church of Sangerville and Dover-Foxcroft Church St\, Sangerville\, ME 04479
UID:e.3605.2907
SEQUENCE:3
DTSTAMP:20260420T211144Z
URL:http://piscataquis-gzcms.preview.gochambermaster.com/events/details/community-summer-supper-2907
END:VEVENT

END:VCALENDAR
