BEGIN:VCALENDAR
VERSION:2.0
PRODID:-//ChamberMaster//Event Calendar 2.0//EN
METHOD:PUBLISH
X-PUBLISHED-TTL:P3D
REFRESH-INTERVAL:P3D
CALSCALE:GREGORIAN
BEGIN:VEVENT
DTSTART:20211204T140000Z
DTEND:20211204T160000Z
X-MICROSOFT-CDO-ALLDAYEVENT:FALSE
SUMMARY:Congregational Christmas Fair
DESCRIPTION:Congregational Christmas Fair Dover-Foxcroft Congregational Church Chapel 824 West Main Street\, Dover-Foxcroft Saturday\, December 4th from 9:00 a.m. - 11:00 a.m. There is no fee to enter and view items for purchase. Items will include homemade swags\, homemade cookies\, soup mix in mason jars\, and more. Proceeds to benefit the church's Women's Service Group. Masks will be required inside the building\, regardless of vaccine status.
X-ALT-DESC;FMTTYPE=text/html:Congregational Christmas Fair Dover-Foxcroft Congregational Church Chapel 824 West Main Street\, Dover-Foxcroft Saturday\, December 4th from 9:00 a.m. - 11:00 a.m. There is no fee to enter and view items for purchase. Items will include homemade swags\, homemade cookies\, soup mix in mason jars\, and more. Proceeds to benefit the church&#39\;s Women&#39\;s Service Group. Masks will be required inside the building\, regardless of vaccine status.
LOCATION:Dover-Foxcroft Congregational Church 824 West Main Street Dover-Foxcroft
UID:e.3605.2142
SEQUENCE:3
DTSTAMP:20260425T014435Z
URL:http://piscataquis-gzcms.preview.gochambermaster.com/events/details/congregational-christmas-fair-2142
END:VEVENT

END:VCALENDAR
