BEGIN:VCALENDAR
VERSION:2.0
PRODID:-//ChamberMaster//Event Calendar 2.0//EN
METHOD:PUBLISH
X-PUBLISHED-TTL:P3D
REFRESH-INTERVAL:P3D
CALSCALE:GREGORIAN
BEGIN:VEVENT
DTSTART:20220906T180000Z
DTEND:20220906T190000Z
X-MICROSOFT-CDO-ALLDAYEVENT:FALSE
SUMMARY:E-commerce for Service-Based Businesses
DESCRIPTION:Corey Zimmerman\, of The WanderWeb\, will present the current E-commerce platform options that are available for female entrepreneurs with service-based businesses. Corey is a web designer specializing in business systems\, with over twenty years of experience in project management and operations. In this 1-hour workshop\, Corey will present different E-commerce platforms and review secure payment methods for selling services online. Register today! https://wbc.ceimaine.org/workshop.aspx?ekey=95420040 FREE Questions? Contact: Tara Clark\, 207-504-5875\, tara.clark@ceimaine.org
X-ALT-DESC;FMTTYPE=text/html:Corey Zimmerman\, of The WanderWeb\, will present the current E-commerce platform options that are available for female entrepreneurs with service-based businesses. Corey is a web designer specializing in business systems\, with over twenty years of experience in project management and operations. In this 1-hour workshop\, Corey will present different E-commerce platforms and review secure payment methods for selling services online. Register today! https://wbc.ceimaine.org/workshop.aspx?ekey=95420040 FREE Questions? Contact: Tara Clark\, 207-504-5875\, tara.clark@ceimaine.org
LOCATION:Online Via Zoom
UID:e.3605.2431
SEQUENCE:3
DTSTAMP:20260422T053737Z
URL:http://piscataquis-gzcms.preview.gochambermaster.com/events/details/e-commerce-for-service-based-businesses-2431
END:VEVENT

END:VCALENDAR
