BEGIN:VCALENDAR
VERSION:2.0
PRODID:-//ChamberMaster//Event Calendar 2.0//EN
METHOD:PUBLISH
X-PUBLISHED-TTL:P3D
REFRESH-INTERVAL:P3D
CALSCALE:GREGORIAN
BEGIN:VEVENT
DTSTART:20230729T230000Z
DTEND:20230730T020000Z
X-MICROSOFT-CDO-ALLDAYEVENT:FALSE
SUMMARY:Finnish Dance At Finn Hall
DESCRIPTION:There will be a Finnish Dance at Monson Finn Hall on Route 15 on July 29\, 2023 at 7:00 pm. Traditional Finnish dances- schottisches\, polkas\, waltzes\, foxtrots\, with Alexandra Conover Bennett and friends providing lively music. The Finn Hall has held these popular dances since the 1940s. All ages welcome. Admission $10\, children free.\n\nDelicious home-made refreshments will be served.\n\n \n\nFor more information\, call 207-343-0388 or visit our Facebook page: https://www.facebook.com/MonsonFinnHall
X-ALT-DESC;FMTTYPE=text/html:<span style="color:black\;"><span style="font-family:arial\,sans-serif\;">There will be a Finnish Dance at Monson Finn Hall on Route 15 on July 29\, 2023 at 7:00 pm. Traditional Finnish dances- schottisches\, polkas\, waltzes\, foxtrots\, with Alexandra Conover Bennett and friends providing lively music. The Finn Hall has held these popular dances since the 1940s. All ages welcome. Admission $10\, children free.</span></span><br />\n<span style="color:black\;"><span style="font-family:arial\,sans-serif\;">Delicious home-made refreshments will be served.</span></span><br />\n&nbsp\;<br />\n<span style="color:black\;"><span style="font-family:arial\,sans-serif\;">For more information\, call 207-343-0388 or visit our Facebook page:&nbsp\;</span></span><span style="color:black\;"><a data-saferedirecturl="https://www.google.com/url?q=https://www.facebook.com/MonsonFinnHall&amp\;source=gmail&amp\;ust=1690378965652000&amp\;usg=AOvVaw084X6eTpXSxJaKFSYYNSsi" href="https://www.facebook.com/MonsonFinnHall" style="color:rgb(17\, 85\, 204)\;" target="_blank"><span style="font-family:arial\,sans-serif\;">https://www.facebook.com/<wbr />MonsonFinnHall</span></a></span>
LOCATION:Monson Finn Hall on Route 15\, just south of town Monson\, ME 04464
UID:e.3605.2908
SEQUENCE:3
DTSTAMP:20260420T164448Z
URL:http://piscataquis-gzcms.preview.gochambermaster.com/events/details/finnish-dance-at-finn-hall-2908
END:VEVENT

END:VCALENDAR
