BEGIN:VCALENDAR
VERSION:2.0
PRODID:-//ChamberMaster//Event Calendar 2.0//EN
METHOD:PUBLISH
X-PUBLISHED-TTL:P3D
REFRESH-INTERVAL:P3D
CALSCALE:GREGORIAN
BEGIN:VEVENT
DTSTART:20221203T160000Z
DTEND:20221203T230000Z
X-MICROSOFT-CDO-ALLDAYEVENT:FALSE
SUMMARY:First Annual WHO-Bilation!
DESCRIPTION:Charleston Church Three Rivers Partners with Elaine's Bakery to bring the FIRST ANNUAL Grinch Who-Bilation to Milo!\n\n \n\nMeet the Grinch\, play games\, do crafts\, and enjoy hot cocoa.
X-ALT-DESC;FMTTYPE=text/html:<p><span style="font-size:20px\;">Charleston Church Three Rivers Partners with Elaine&#39\;s Bakery to bring the FIRST ANNUAL&nbsp\;Grinch Who-Bilation to Milo!</span></p>\n\n<p>&nbsp\;</p>\n\n<p><span style="font-size:20px\;">Meet the Grinch\, play games\, do crafts\, and enjoy hot cocoa.</span></p>\n
LOCATION:Elaine's Bakery\, 38 Main St. Milo\, ME
UID:e.3605.2479
SEQUENCE:3
DTSTAMP:20260421T171742Z
URL:http://piscataquis-gzcms.preview.gochambermaster.com/events/details/first-annual-who-bilation-2479
END:VEVENT

END:VCALENDAR
