BEGIN:VCALENDAR
VERSION:2.0
PRODID:-//ChamberMaster//Event Calendar 2.0//EN
METHOD:PUBLISH
X-PUBLISHED-TTL:P3D
REFRESH-INTERVAL:P3D
CALSCALE:GREGORIAN
BEGIN:VEVENT
DTSTART:20240405T200000Z
DTEND:20240405T220000Z
X-MICROSOFT-CDO-ALLDAYEVENT:FALSE
SUMMARY:First Friday - Meet the Artist
DESCRIPTION:Come and join us at the Monson Gallery Store and meet Suzannah Sinclair Artist. German-born Suzannah is known for her paintings of women in gently provocative poses. She currently is one of our featured artist in the Monson Gallery on display until April 21st. We will also feature a sampling of Dark Horse Sauvignon Blanc and Merlot along with Pineland Cheese and Crackers.
X-ALT-DESC;FMTTYPE=text/html:<div><span style="font-size:22px\;">Come and join us at the Monson Gallery Store and meet Suzannah Sinclair Artist.&nbsp\;German-born Suzannah is known for her paintings of women in gently provocative poses. She currently is one of our featured artist in the Monson Gallery on display until April 21st. We will also feature a sampling of Dark Horse Sauvignon Blanc and Merlot along with Pineland Cheese and Crackers.</span></div>\n
LOCATION:Monson Gallery Store 8 Greenville Rd. Monson\, Maine
UID:e.3605.3848
SEQUENCE:3
DTSTAMP:20260419T130442Z
URL:http://piscataquis-gzcms.preview.gochambermaster.com/events/details/first-friday-meet-the-artist-3848
END:VEVENT

END:VCALENDAR
