BEGIN:VCALENDAR
VERSION:2.0
PRODID:-//ChamberMaster//Event Calendar 2.0//EN
METHOD:PUBLISH
X-PUBLISHED-TTL:P3D
REFRESH-INTERVAL:P3D
CALSCALE:GREGORIAN
BEGIN:VEVENT
DTSTART:20211211T140000Z
DTEND:20211211T210000Z
X-MICROSOFT-CDO-ALLDAYEVENT:FALSE
SUMMARY:Glass Paradox Annual Holiday Open House
DESCRIPTION:Amy of Glass Paradox normally sells her unique\, beautiful products through her website's online store\, but once a year she opens her doors to the public\, just in time for Christmas!
X-ALT-DESC;FMTTYPE=text/html:Amy of Glass Paradox normally sells her unique\, beautiful products through her website&#39\;s online store\, but once a year she opens her doors to the public\, just in time for Christmas!
LOCATION:67 Page Street\, Brownville
UID:e.3605.2153
SEQUENCE:3
DTSTAMP:20260425T014509Z
URL:http://piscataquis-gzcms.preview.gochambermaster.com/events/details/glass-paradox-annual-holiday-open-house-2153
END:VEVENT

END:VCALENDAR
