BEGIN:VCALENDAR
VERSION:2.0
PRODID:-//ChamberMaster//Event Calendar 2.0//EN
METHOD:PUBLISH
X-PUBLISHED-TTL:P3D
REFRESH-INTERVAL:P3D
CALSCALE:GREGORIAN
BEGIN:VEVENT
DTSTART:20220704T110000Z
DTEND:20220704T173000Z
X-MICROSOFT-CDO-ALLDAYEVENT:FALSE
SUMMARY:July 4th in Sebec Village
DESCRIPTION:Come experience what July 4th is like in a small town. We start with Breakfast at the Community Church  and end with a Chicken and Ribs BBQ Meal which includes: half a chicken\, salads\, and sides. In between we have 5K race (pending)\, parade through town\, canoe race\, baked good and beverages available throughout all these events\, and ending with the DELICIOUS  chicken and ribs BBQ.
X-ALT-DESC;FMTTYPE=text/html:Come experience what July 4th is like in a small town. We start with Breakfast at the Community Church&nbsp\; and end with a Chicken and Ribs BBQ Meal which includes: half a chicken\, salads\, and sides. In between we have 5K race (pending)\, parade through town\, canoe race\, baked good and beverages available throughout all these events\, and ending with the DELICIOUS&nbsp\; chicken and ribs BBQ.<br />\n&nbsp\;
LOCATION:Starting @ Sebec Village Community Church 734 Sebec Village Road Ending @ Sebec Reading Room 665 Sebec Village Road Sebec\, Maine
UID:e.3605.2222
SEQUENCE:3
DTSTAMP:20260424T122622Z
URL:http://piscataquis-gzcms.preview.gochambermaster.com/events/details/july-4th-in-sebec-village-2222
END:VEVENT

END:VCALENDAR
