BEGIN:VCALENDAR
VERSION:2.0
PRODID:-//ChamberMaster//Event Calendar 2.0//EN
METHOD:PUBLISH
X-PUBLISHED-TTL:P3D
REFRESH-INTERVAL:P3D
CALSCALE:GREGORIAN
BEGIN:VEVENT
DTSTART:20210625T213000Z
DTEND:20210626T010000Z
X-MICROSOFT-CDO-ALLDAYEVENT:FALSE
SUMMARY:PRYMCA 2021 Dinner Dance Auction
DESCRIPTION:Join us for an evening of wonderful music\, food and fun at the Piscataquis Regional YMCA Dinner Dance Auction Fundraiser! Exciting Live & Silent Auction Dinner Catered by Pat's Pizza Live Performance by Doughty Hill Band Cash Bar Tickets $40 per person\, $75 per couple On June 14\, $50 per person\n\nChild care available for potty-trained children for $25\, includes a kid's meal and activity.
X-ALT-DESC;FMTTYPE=text/html:<p>Join us for an evening of wonderful music\, food and fun at the Piscataquis Regional YMCA Dinner Dance Auction Fundraiser! Exciting Live &amp\; Silent Auction Dinner Catered by Pat&#39\;s Pizza Live Performance by Doughty Hill Band Cash Bar Tickets $40 per person\, $75 per couple On June 14\, $50 per person</p>\n\n<p>Child care available for potty-trained children for $25\, includes a kid&#39\;s meal and activity.</p>\n
LOCATION:48 Park St. Dover-Foxcroft\, ME 04426
UID:e.3605.1260
SEQUENCE:3
DTSTAMP:20260425T173642Z
URL:http://piscataquis-gzcms.preview.gochambermaster.com/events/details/prymca-2021-dinner-dance-auction-1260
END:VEVENT

END:VCALENDAR
