BEGIN:VCALENDAR
VERSION:2.0
PRODID:-//ChamberMaster//Event Calendar 2.0//EN
METHOD:PUBLISH
X-PUBLISHED-TTL:P3D
REFRESH-INTERVAL:P3D
CALSCALE:GREGORIAN
BEGIN:VEVENT
DTSTART:20201205T213000Z
DTEND:20201205T230000Z
X-MICROSOFT-CDO-ALLDAYEVENT:FALSE
SUMMARY:Soup & Stew with Santa
DESCRIPTION:The final Reading Room event of the year culminates with delicious food and a chance to visit with Santa Claus.
X-ALT-DESC;FMTTYPE=text/html:<span style="font-family:cambria\,serif\;"><span style="font-size:11.0pt\;">The final Reading Room event of the year culminates with delicious food and a chance to visit with Santa Claus.&nbsp\;</span></span>
LOCATION:665 Sebec Village Drive
UID:e.3605.506
SEQUENCE:3
DTSTAMP:20260426T030535Z
URL:http://piscataquis-gzcms.preview.gochambermaster.com/events/details/soup-stew-with-santa-506
END:VEVENT

END:VCALENDAR
