BEGIN:VCALENDAR
VERSION:2.0
PRODID:-//ChamberMaster//Event Calendar 2.0//EN
METHOD:PUBLISH
X-PUBLISHED-TTL:P3D
REFRESH-INTERVAL:P3D
CALSCALE:GREGORIAN
BEGIN:VEVENT
DTSTART:20231225T171500Z
DTEND:20231225T190000Z
X-MICROSOFT-CDO-ALLDAYEVENT:FALSE
SUMMARY:Three Rivers Kiwanis Free Christmas Dinner
DESCRIPTION:Three Rivers Kiwanis will be hosting a Free Roast Pork Christmas Dinner \n\nDec. 25 at 12:15.\n\nCome join us for a fun and delicious dinner\, dessert and community gathering.\n\nUnable to get there? Call Nancy at 207-943-3677 for home delivery to Milo/Brownville area.
X-ALT-DESC;FMTTYPE=text/html:<div style="text-align: center\;"><span style="font-family:times new roman"><span style="font-size:18px">Three Rivers Kiwanis will be hosting a<strong> Free Roast Pork Christmas Dinner </strong><br />\nDec. 25 at 12:15.</span><br />\n<span style="font-family:comic sans ms">Come join us for a fun and delicious dinner\, dessert and community gathering.</span><br />\nUnable to get there? Call Nancy at 207-943-3677 for home delivery to Milo/Brownville area.</span></div>\n
LOCATION:Three Rivers Kiwanis Hall. 15 Harris Pond Rd\, Milo
UID:e.3605.3173
SEQUENCE:3
DTSTAMP:20260420T031016Z
URL:http://piscataquis-gzcms.preview.gochambermaster.com/events/details/three-rivers-kiwanis-free-christmas-dinner-3173
END:VEVENT

END:VCALENDAR
