BEGIN:VCALENDAR
VERSION:2.0
PRODID:-//ChamberMaster//Event Calendar 2.0//EN
METHOD:PUBLISH
X-PUBLISHED-TTL:P3D
REFRESH-INTERVAL:P3D
CALSCALE:GREGORIAN
BEGIN:VEVENT
DTSTART:20231111T160000Z
DTEND:20231111T200000Z
X-MICROSOFT-CDO-ALLDAYEVENT:FALSE
SUMMARY:Veterans Day Potluck
DESCRIPTION:Open to the public! Please bring a dish to share. Veterans\, family\, and friends are all invited to come out and share a potluck meal in celebration and honor.
X-ALT-DESC;FMTTYPE=text/html:Open to the public! Please bring a dish to share. Veterans\, family\, and friends are all invited to come out and share a potluck meal in celebration and honor.
LOCATION:112 Park Street Dover Foxcroft Me 04426
UID:e.3605.3077
SEQUENCE:3
DTSTAMP:20260420T044807Z
URL:http://piscataquis-gzcms.preview.gochambermaster.com/events/details/veterans-day-potluck-3077
END:VEVENT

END:VCALENDAR
