BEGIN:VCALENDAR
VERSION:2.0
PRODID:-//ChamberMaster//Event Calendar 2.0//EN
METHOD:PUBLISH
X-PUBLISHED-TTL:P3D
REFRESH-INTERVAL:P3D
CALSCALE:GREGORIAN
BEGIN:VEVENT
DTSTART:20220914T130000Z
DTEND:20220914T140000Z
X-MICROSOFT-CDO-ALLDAYEVENT:FALSE
SUMMARY:Women's Business Center Virtual Info Session
DESCRIPTION:Join the CEI Women's Business Center for a virtual info session! The focus will be on how to best take advantage of opportunities and resources for your small business in the state of Maine\, regardless of whether you are in start-up or growth mode\, or are looking to network and learn with other women in business . All of the business support services of the WBC are no-charge and confidential. We will share resources to use and steps to take to get your business from idea to reality. You should attend this info session if you've ever thought about starting your own business but didn't know where to start\, or are ready to expand or grow but are unsure of how. We'll point you in the right direction   whether it's assisting you in creating a business plan or working with you as you build your enterprise. Register today! The Zoom link will be sent to you one day prior to the event.
X-ALT-DESC;FMTTYPE=text/html:Join the CEI Women&rsquo\;s Business Center for a virtual info session! The focus will be on how to best take advantage of opportunities and resources for your small business in the state of Maine\, regardless of whether you are in start-up or growth mode\, or are looking to network and learn with other women in business . All of the business support services of the WBC are no-charge and confidential. We will share resources to use and steps to take to get your business from idea to reality. You should attend this info session if you&rsquo\;ve ever thought about starting your own business but didn&rsquo\;t know where to start\, or are ready to expand or grow but are unsure of how. We&rsquo\;ll point you in the right direction &mdash\; whether it&rsquo\;s assisting you in creating a business plan or working with you as you build your enterprise. Register today! The Zoom link will be sent to you one day prior to the event.
LOCATION:ZOOM
UID:e.3605.2427
SEQUENCE:3
DTSTAMP:20260422T020420Z
URL:http://piscataquis-gzcms.preview.gochambermaster.com/events/details/women-s-business-center-virtual-info-session-2427
END:VEVENT

END:VCALENDAR
